BEGIN:VCALENDAR
VERSION:2.0
PRODID:-//SMYAL - ECPv6.15.20//NONSGML v1.0//EN
CALSCALE:GREGORIAN
METHOD:PUBLISH
X-WR-CALNAME:SMYAL
X-ORIGINAL-URL:https://smyal.org/es
X-WR-CALDESC:Eventos para SMYAL
REFRESH-INTERVAL;VALUE=DURATION:PT1H
X-Robots-Tag:noindex
X-PUBLISHED-TTL:PT1H
BEGIN:VTIMEZONE
TZID:America/New_York
BEGIN:DAYLIGHT
TZOFFSETFROM:-0500
TZOFFSETTO:-0400
TZNAME:EDT
DTSTART:20200308T070000
END:DAYLIGHT
BEGIN:STANDARD
TZOFFSETFROM:-0400
TZOFFSETTO:-0500
TZNAME:EST
DTSTART:20201101T060000
END:STANDARD
BEGIN:DAYLIGHT
TZOFFSETFROM:-0500
TZOFFSETTO:-0400
TZNAME:EDT
DTSTART:20210314T070000
END:DAYLIGHT
BEGIN:STANDARD
TZOFFSETFROM:-0400
TZOFFSETTO:-0500
TZNAME:EST
DTSTART:20211107T060000
END:STANDARD
BEGIN:DAYLIGHT
TZOFFSETFROM:-0500
TZOFFSETTO:-0400
TZNAME:EDT
DTSTART:20220313T070000
END:DAYLIGHT
BEGIN:STANDARD
TZOFFSETFROM:-0400
TZOFFSETTO:-0500
TZNAME:EST
DTSTART:20221106T060000
END:STANDARD
END:VTIMEZONE
BEGIN:VEVENT
DTSTART;TZID=America/New_York:20210625T180000
DTEND;TZID=America/New_York:20210625T193000
DTSTAMP:20260422T025200
CREATED:20210602T222041Z
LAST-MODIFIED:20210602T222041Z
UID:9334-1624644000-1624649400@smyal.org
SUMMARY:Pride Movie Night: The Mitchell's vs The Machines
DESCRIPTION:Settle in for a movie watch part of “The Mitchell’s vs The Machines”! \nAbout the movie: Katie Mitchell embarks on a road trip with her proud parents\, younger brother and beloved dog to start her first year at film school. But their plans to bond as a family soon get interrupted when the world’s electronic devices come to life to stage an uprising. With help from two friendly robots\, the Mitchells must now come together to save one another — and the planet — from the new technological revolution. \nWatch the trailer: https://www.youtube.com/watch?v=_ak5dFt8Ar0
URL:https://smyal.org/es/event/pride-movie-night-the-mitchells-vs-the-machines/
LOCATION:Discord
CATEGORIES:Virtual Programs,Youth Events
END:VEVENT
END:VCALENDAR