BEGIN:VCALENDAR
VERSION:2.0
PRODID:-//SMYAL - ECPv5.5.0.1//NONSGML v1.0//EN
CALSCALE:GREGORIAN
METHOD:PUBLISH
X-WR-CALNAME:SMYAL
X-ORIGINAL-URL:https://smyal.org
X-WR-CALDESC:Events for SMYAL
BEGIN:VTIMEZONE
TZID:UTC
BEGIN:STANDARD
TZOFFSETFROM:+0000
TZOFFSETTO:+0000
TZNAME:UTC
DTSTART:20210101T000000
END:STANDARD
END:VTIMEZONE
BEGIN:VEVENT
DTSTART;TZID=UTC:20210430T133000
DTEND;TZID=UTC:20210430T143000
DTSTAMP:20210428T063332
CREATED:20210402T204508Z
LAST-MODIFIED:20210402T204508Z
UID:4779-1619789400-1619793000@smyal.org
SUMMARY:Mid-Day Chat Space
DESCRIPTION:Open discussion for queer and trans youth ages 13-24 hosted on Discord. \nJoin on the Computer: Visit Discord at https://discord.gg/nGjHXn6 \nDownload the App: Download “Discord” from the App Store \n 
URL:https://smyal.org/youth-event/mid-day-chat-space-20/
LOCATION:Discord
CATEGORIES:Virtual Programs,Youth Events
END:VEVENT
BEGIN:VEVENT
DTSTART;TZID=UTC:20210430T160000
DTEND;TZID=UTC:20210430T173000
DTSTAMP:20210428T063332
CREATED:20210402T204939Z
LAST-MODIFIED:20210402T204939Z
UID:4787-1619798400-1619803800@smyal.org
SUMMARY:Q Chat Space
DESCRIPTION:Rotating topics in a chat-based discussion room for queer and trans youth ages 13-19. \nJoin at QChatSpace.org
URL:https://smyal.org/youth-event/q-chat-space-11/
LOCATION:Q Chat Space
CATEGORIES:Virtual Programs,Youth Events
END:VEVENT
BEGIN:VEVENT
DTSTART;TZID=UTC:20210430T160000
DTEND;TZID=UTC:20210430T170000
DTSTAMP:20210428T063332
CREATED:20210419T154002Z
LAST-MODIFIED:20210419T154002Z
UID:4853-1619798400-1619802000@smyal.org
SUMMARY:Youth Leadership Awards Info Session
DESCRIPTION:The SMYAL LGBT Youth Leadership Awards are individual post-secondary education scholarships of up to $5\,000 for Washington\, DC Metro Area youth who have demonstrated leadership in their school or community. \nCome learn more about the application process\, ask questions about the awards\, and find out why leaders like you deserve to be recognized for your work! \nLearn more and apply for the Youth Leadership Awards by May 7th at SMYAL.org/scholarship \n 
URL:https://smyal.org/youth-event/youth-leadership-awards-info-session/
LOCATION:Discord
CATEGORIES:Virtual Programs,Youth Events
END:VEVENT
BEGIN:VEVENT
DTSTART;TZID=UTC:20210430T180000
DTEND;TZID=UTC:20210430T193000
DTSTAMP:20210428T063332
CREATED:20210402T201430Z
LAST-MODIFIED:20210402T201430Z
UID:4731-1619805600-1619811000@smyal.org
SUMMARY:Kick Back Night
DESCRIPTION:Come hang out with other queer and trans youth in this chill virtual space! \nJoin by Computer: Click https://discord.gg/WfN3V4NVnd
URL:https://smyal.org/youth-event/kick-back-night-11/
LOCATION:Discord
CATEGORIES:Virtual Programs,Youth Events
END:VEVENT
END:VCALENDAR