BEGIN:VCALENDAR
VERSION:2.0
PRODID:-//SMYAL - ECPv6.15.20//NONSGML v1.0//EN
CALSCALE:GREGORIAN
METHOD:PUBLISH
X-ORIGINAL-URL:https://smyal.org
X-WR-CALDESC:Events for SMYAL
REFRESH-INTERVAL;VALUE=DURATION:PT1H
X-Robots-Tag:noindex
X-PUBLISHED-TTL:PT1H
BEGIN:VTIMEZONE
TZID:America/New_York
BEGIN:DAYLIGHT
TZOFFSETFROM:-0500
TZOFFSETTO:-0400
TZNAME:EDT
DTSTART:20200308T070000
END:DAYLIGHT
BEGIN:STANDARD
TZOFFSETFROM:-0400
TZOFFSETTO:-0500
TZNAME:EST
DTSTART:20201101T060000
END:STANDARD
BEGIN:DAYLIGHT
TZOFFSETFROM:-0500
TZOFFSETTO:-0400
TZNAME:EDT
DTSTART:20210314T070000
END:DAYLIGHT
BEGIN:STANDARD
TZOFFSETFROM:-0400
TZOFFSETTO:-0500
TZNAME:EST
DTSTART:20211107T060000
END:STANDARD
BEGIN:DAYLIGHT
TZOFFSETFROM:-0500
TZOFFSETTO:-0400
TZNAME:EDT
DTSTART:20220313T070000
END:DAYLIGHT
BEGIN:STANDARD
TZOFFSETFROM:-0400
TZOFFSETTO:-0500
TZNAME:EST
DTSTART:20221106T060000
END:STANDARD
END:VTIMEZONE
BEGIN:VEVENT
DTSTART;TZID=America/New_York:20210622T130000
DTEND;TZID=America/New_York:20210622T134500
DTSTAMP:20260420T054336
CREATED:20210621T183923Z
LAST-MODIFIED:20210621T183923Z
UID:9452-1624366800-1624369500@smyal.org
SUMMARY:Thank you\, Addison
DESCRIPTION:Join us as we bid farewell to our long-time SMYAL team member\, Addison! We know that Addison has been a part of many people’s lives\, so let’s celebrate them as they take their next steps beyond SMYAL. If you’re not able to join us on Zoom or you want to send your well-wishes\, we invite you to leave a message for Addison at https://www.kudoboard.com/boards/1J9P3e0t
URL:https://smyal.org/event/thank-you-addison/
CATEGORIES:Virtual Programs,Youth Events
END:VEVENT
END:VCALENDAR