BEGIN:VCALENDAR
VERSION:2.0
PRODID:-//SMYAL - ECPv6.15.20//NONSGML v1.0//EN
CALSCALE:GREGORIAN
METHOD:PUBLISH
X-ORIGINAL-URL:https://smyal.org
X-WR-CALDESC:Events for SMYAL
REFRESH-INTERVAL;VALUE=DURATION:PT1H
X-Robots-Tag:noindex
X-PUBLISHED-TTL:PT1H
BEGIN:VTIMEZONE
TZID:America/New_York
BEGIN:DAYLIGHT
TZOFFSETFROM:-0500
TZOFFSETTO:-0400
TZNAME:EDT
DTSTART:20200308T070000
END:DAYLIGHT
BEGIN:STANDARD
TZOFFSETFROM:-0400
TZOFFSETTO:-0500
TZNAME:EST
DTSTART:20201101T060000
END:STANDARD
BEGIN:DAYLIGHT
TZOFFSETFROM:-0500
TZOFFSETTO:-0400
TZNAME:EDT
DTSTART:20210314T070000
END:DAYLIGHT
BEGIN:STANDARD
TZOFFSETFROM:-0400
TZOFFSETTO:-0500
TZNAME:EST
DTSTART:20211107T060000
END:STANDARD
BEGIN:DAYLIGHT
TZOFFSETFROM:-0500
TZOFFSETTO:-0400
TZNAME:EDT
DTSTART:20220313T070000
END:DAYLIGHT
BEGIN:STANDARD
TZOFFSETFROM:-0400
TZOFFSETTO:-0500
TZNAME:EST
DTSTART:20221106T060000
END:STANDARD
END:VTIMEZONE
BEGIN:VEVENT
DTSTART;TZID=America/New_York:20210629T180000
DTEND;TZID=America/New_York:20210629T190000
DTSTAMP:20260422T060817
CREATED:20210611T200102Z
LAST-MODIFIED:20210611T200102Z
UID:9437-1624989600-1624993200@smyal.org
SUMMARY:Me Too Movement
DESCRIPTION:Join the SMYAL Peer Health Fellows for a workshop about the history\, present\, and future of the Me Too Movement to raise awareness around sexual harassment and assault.
URL:https://smyal.org/event/me-too-movement/
LOCATION:Peer Health Fellow Workshops
CATEGORIES:Virtual Programs,Youth Events
END:VEVENT
END:VCALENDAR