BEGIN:VCALENDAR
VERSION:2.0
PRODID:-//SMYAL - ECPv5.6.0//NONSGML v1.0//EN
CALSCALE:GREGORIAN
METHOD:PUBLISH
X-WR-CALNAME:SMYAL
X-ORIGINAL-URL:https://smyal.org
X-WR-CALDESC:Events for SMYAL
BEGIN:VTIMEZONE
TZID:UTC
BEGIN:STANDARD
TZOFFSETFROM:+0000
TZOFFSETTO:+0000
TZNAME:UTC
DTSTART:20200101T000000
END:STANDARD
END:VTIMEZONE
BEGIN:VEVENT
DTSTART;TZID=UTC:20200908T170000
DTEND;TZID=UTC:20200908T180000
DTSTAMP:20210527T184819
CREATED:20200903T162945Z
LAST-MODIFIED:20200903T164013Z
UID:3368-1599584400-1599588000@smyal.org
SUMMARY:Bi & Pan Community Space
DESCRIPTION:Community space for bi and pan youth ages 13-24 hosted on Discord. \nJoin on the Computer: Visit Discord at https://discord.gg/nGjHXn6 \nDownload the App: Download “Discord” from the App Store
URL:https://smyal.org/youth-event/bi-pan-community-space/
CATEGORIES:Virtual Programs
END:VEVENT
END:VCALENDAR