BEGIN:VCALENDAR
VERSION:2.0
PRODID:-//SMYAL - ECPv6.15.20//NONSGML v1.0//EN
CALSCALE:GREGORIAN
METHOD:PUBLISH
X-ORIGINAL-URL:https://smyal.org
X-WR-CALDESC:Events for SMYAL
REFRESH-INTERVAL;VALUE=DURATION:PT1H
X-Robots-Tag:noindex
X-PUBLISHED-TTL:PT1H
BEGIN:VTIMEZONE
TZID:America/New_York
BEGIN:DAYLIGHT
TZOFFSETFROM:-0500
TZOFFSETTO:-0400
TZNAME:EDT
DTSTART:20210314T070000
END:DAYLIGHT
BEGIN:STANDARD
TZOFFSETFROM:-0400
TZOFFSETTO:-0500
TZNAME:EST
DTSTART:20211107T060000
END:STANDARD
BEGIN:DAYLIGHT
TZOFFSETFROM:-0500
TZOFFSETTO:-0400
TZNAME:EDT
DTSTART:20220313T070000
END:DAYLIGHT
BEGIN:STANDARD
TZOFFSETFROM:-0400
TZOFFSETTO:-0500
TZNAME:EST
DTSTART:20221106T060000
END:STANDARD
BEGIN:DAYLIGHT
TZOFFSETFROM:-0500
TZOFFSETTO:-0400
TZNAME:EDT
DTSTART:20230312T070000
END:DAYLIGHT
BEGIN:STANDARD
TZOFFSETFROM:-0400
TZOFFSETTO:-0500
TZNAME:EST
DTSTART:20231105T060000
END:STANDARD
END:VTIMEZONE
BEGIN:VEVENT
DTSTART;TZID=America/New_York:20220301T170000
DTEND;TZID=America/New_York:20220301T190000
DTSTAMP:20260423T130259
CREATED:20220228T193715Z
LAST-MODIFIED:20220307T180325Z
UID:10839-1646154000-1646161200@smyal.org
SUMMARY:Virtual Drop-In Programs
DESCRIPTION:Join us on Discord for virtual programs! Our community spaces are a place where queer and trans youth can meet other young people who hold the same identities\, talk about a wide variety of topics that impact them\, find support\, or just be in community with one another. \nClick here to join on Discord.
URL:https://smyal.org/event/virtual-drop-in-programs-march-2022/
LOCATION:Discord
CATEGORIES:Virtual Programs,Youth Events
END:VEVENT
BEGIN:VEVENT
DTSTART;TZID=America/New_York:20220302T163000
DTEND;TZID=America/New_York:20220302T180000
DTSTAMP:20260423T130259
CREATED:20220228T203802Z
LAST-MODIFIED:20220228T203802Z
UID:10841-1646238600-1646244000@smyal.org
SUMMARY:Q Chat Space: Sexual Health 101
DESCRIPTION:Rotating topics in a chat-based discussion room for queer and trans youth ages 13-19. \nJoin at QChatSpace.org
URL:https://smyal.org/event/q-chat-space-march-2022/
LOCATION:Q Chat Space
CATEGORIES:Virtual Programs,Youth Events
END:VEVENT
BEGIN:VEVENT
DTSTART;TZID=America/New_York:20220303T200000
DTEND;TZID=America/New_York:20220303T210000
DTSTAMP:20260423T130259
CREATED:20220228T204545Z
LAST-MODIFIED:20220228T204545Z
UID:10843-1646337600-1646341200@smyal.org
SUMMARY:Virtual Film Screening: Mama Has a Mustache
DESCRIPTION:Join SMYAL and our partners for a Q&A with Sally Rubin filmmaker of ‘Mama has a Mustache’\, a short\, quirky\, fully animated documentary about gender and family\, as seen through children’s eyes. \nDriven completely by audio interviews of kids ages 5-10\, the film uses these sound bites combined with clipart and mixed media to explore how children experience a world outside of the traditional gender binary. \nLive Q&A is Thursday\, March 3 at 8 ET pm. The film will be screened at the beginning of the event and you can also access the film anytime between Mar. 1 and Mar. 9. This event is open to the public; youth\, parents\, other adults\, and supporters are welcome. Visit https://watch.showandtell.film/watch/mama_centerlink to register for access to the film and be sure to use the Q&A link to register for the live Q&A via Zoom on March 3.
URL:https://smyal.org/event/virtual-film-screening-mama-has-a-mustache/
CATEGORIES:Virtual Programs,Youth Events
END:VEVENT
BEGIN:VEVENT
DTSTART;TZID=America/New_York:20220304T180000
DTEND;TZID=America/New_York:20220304T193000
DTSTAMP:20260423T130259
CREATED:20220211T164756Z
LAST-MODIFIED:20220211T164756Z
UID:10777-1646416800-1646422200@smyal.org
SUMMARY:Writing to Wellness™ with C. Alexandria-Bernard Thomas
DESCRIPTION:March Topic: RESILIENCE\nJoin on Zoom\nSMYAL is partnering up with the incredible C. Alexandria-Bernard Thomas to bring you monthly poetry writing workshops from Feb. 2022 through 2023! \nEach month\, award-winning poet\, and advocate C. Alexandria-Bernard Thomas (He/they) will be hosting their original workshop Writing to Wellness™\, a discussion-based workshop designed for writers to use poetry as a tool for healing when navigating trauma. Participants learn helpful tips via discussion on how to navigate trauma through expressive forms of creative writing\, how to advocate for others and how to build a safe space for self-care. \nWriting to Wellness™ for LGBTQ+ Youth\, ages-13-24\, will be hosted via Zoom on the first Friday of each month from 6-7:30 pm ET. Topics will rotate each month\, feature new writing prompts\, and teach you ways to heal through creative expression. \nYou are not required to pre-register\, however\, we’d like to get an idea of how many people plan to attend. You can fill out an interest form here.
URL:https://smyal.org/event/writing-to-wellness-with-c-alexandria-bernard-thomas-2/
CATEGORIES:Virtual Programs,Youth Events
END:VEVENT
BEGIN:VEVENT
DTSTART;TZID=America/New_York:20220309T163000
DTEND;TZID=America/New_York:20220309T180000
DTSTAMP:20260423T130259
CREATED:20220307T182558Z
LAST-MODIFIED:20220307T182700Z
UID:10901-1646843400-1646848800@smyal.org
SUMMARY:Q Chat Space: Celebrating Trans Women's History and Visibility
DESCRIPTION:Rotating topics in a chat-based discussion room for queer and trans youth ages 13-19. \nJoin at QChatSpace.org
URL:https://smyal.org/event/march-qchat-2022/
LOCATION:Q Chat Space
CATEGORIES:Virtual Programs,Youth Events
END:VEVENT
BEGIN:VEVENT
DTSTART;TZID=America/New_York:20220311T160000
DTEND;TZID=America/New_York:20220311T190000
DTSTAMP:20260423T130259
CREATED:20220228T193715Z
LAST-MODIFIED:20220307T180515Z
UID:10882-1647014400-1647025200@smyal.org
SUMMARY:Virtual Drop-In Programs: Game Night
DESCRIPTION:Join us on Discord for virtual programs! Our community spaces are a place where queer and trans youth can meet other young people who hold the same identities\, talk about a wide variety of topics that impact them\, find support\, or just be in community with one another. \nClick here to join on Discord.
URL:https://smyal.org/event/virtual-drop-in-programs-march-2022-2022-03-11/
LOCATION:Discord
CATEGORIES:Virtual Programs,Youth Events
END:VEVENT
BEGIN:VEVENT
DTSTART;TZID=America/New_York:20220316T163000
DTEND;TZID=America/New_York:20220316T180000
DTSTAMP:20260423T130259
CREATED:20220307T182558Z
LAST-MODIFIED:20220307T182749Z
UID:10903-1647448200-1647453600@smyal.org
SUMMARY:Q Chat Space: Iconic Women's Appreciation
DESCRIPTION:Rotating topics in a chat-based discussion room for queer and trans youth ages 13-19. \nJoin at QChatSpace.org
URL:https://smyal.org/event/march-qchat-2022-2022-03-16/
LOCATION:Q Chat Space
CATEGORIES:Virtual Programs,Youth Events
END:VEVENT
BEGIN:VEVENT
DTSTART;TZID=America/New_York:20220317T170000
DTEND;TZID=America/New_York:20220317T190000
DTSTAMP:20260423T130259
CREATED:20220228T193715Z
LAST-MODIFIED:20220307T180610Z
UID:10884-1647536400-1647543600@smyal.org
SUMMARY:Virtual Drop-In Programs: Women's Appreciation Day
DESCRIPTION:Join us on Discord for virtual programs! Our community spaces are a place where queer and trans youth can meet other young people who hold the same identities\, talk about a wide variety of topics that impact them\, find support\, or just be in community with one another. \nClick here to join on Discord.
URL:https://smyal.org/event/virtual-drop-in-programs-march-2022-2022-03-17/
LOCATION:Discord
CATEGORIES:Virtual Programs,Youth Events
END:VEVENT
BEGIN:VEVENT
DTSTART;TZID=America/New_York:20220318T160000
DTEND;TZID=America/New_York:20220318T190000
DTSTAMP:20260423T130259
CREATED:20220228T193715Z
LAST-MODIFIED:20220307T180843Z
UID:10885-1647619200-1647630000@smyal.org
SUMMARY:Virtual Drop-In Programs: Sip & Vibe
DESCRIPTION:Join us on Discord for virtual programs! Our community spaces are a place where queer and trans youth can meet other young people who hold the same identities\, talk about a wide variety of topics that impact them\, find support\, or just be in community with one another. \nClick here to join on Discord.
URL:https://smyal.org/event/virtual-drop-in-programs-march-2022-2022-03-18/
LOCATION:Discord
CATEGORIES:Virtual Programs,Youth Events
END:VEVENT
BEGIN:VEVENT
DTSTART;TZID=America/New_York:20220322T160000
DTEND;TZID=America/New_York:20220322T190000
DTSTAMP:20260423T130259
CREATED:20220228T193715Z
LAST-MODIFIED:20220307T181040Z
UID:10886-1647964800-1647975600@smyal.org
SUMMARY:Virtual Drop-In Programs: Self Empowerment
DESCRIPTION:Join us on Discord for virtual programs! Our community spaces are a place where queer and trans youth can meet other young people who hold the same identities\, talk about a wide variety of topics that impact them\, find support\, or just be in community with one another. \nClick here to join on Discord.
URL:https://smyal.org/event/virtual-drop-in-programs-march-2022-2022-03-22/
LOCATION:Discord
CATEGORIES:Virtual Programs,Youth Events
END:VEVENT
BEGIN:VEVENT
DTSTART;TZID=America/New_York:20220323T163000
DTEND;TZID=America/New_York:20220323T180000
DTSTAMP:20260423T130259
CREATED:20220307T182558Z
LAST-MODIFIED:20220307T182832Z
UID:10904-1648053000-1648058400@smyal.org
SUMMARY:Q Chat Space: Transphobia vs Cisnormativity (what's the difference and how do we resist it?)
DESCRIPTION:Rotating topics in a chat-based discussion room for queer and trans youth ages 13-19. \nJoin at QChatSpace.org
URL:https://smyal.org/event/march-qchat-2022-2022-03-23/
LOCATION:Q Chat Space
CATEGORIES:Virtual Programs,Youth Events
END:VEVENT
BEGIN:VEVENT
DTSTART;TZID=America/New_York:20220325T160000
DTEND;TZID=America/New_York:20220325T190000
DTSTAMP:20260423T130259
CREATED:20220228T193715Z
LAST-MODIFIED:20220307T181117Z
UID:10888-1648224000-1648234800@smyal.org
SUMMARY:Virtual Drop-In Programs: Movie Night
DESCRIPTION:Join us on Discord for virtual programs! Our community spaces are a place where queer and trans youth can meet other young people who hold the same identities\, talk about a wide variety of topics that impact them\, find support\, or just be in community with one another. \nClick here to join on Discord.
URL:https://smyal.org/event/virtual-drop-in-programs-march-2022-2022-03-25/
LOCATION:Discord
CATEGORIES:Virtual Programs,Youth Events
END:VEVENT
BEGIN:VEVENT
DTSTART;TZID=America/New_York:20220330T163000
DTEND;TZID=America/New_York:20220330T180000
DTSTAMP:20260423T130259
CREATED:20220307T182558Z
LAST-MODIFIED:20220307T182919Z
UID:10905-1648657800-1648663200@smyal.org
SUMMARY:Q Chat Space: Short Film Fest; Trans Visibility
DESCRIPTION:Rotating topics in a chat-based discussion room for queer and trans youth ages 13-19. \nJoin at QChatSpace.org
URL:https://smyal.org/event/march-qchat-2022-2022-03-30/
LOCATION:Q Chat Space
CATEGORIES:Virtual Programs,Youth Events
END:VEVENT
BEGIN:VEVENT
DTSTART;TZID=America/New_York:20220331T170000
DTEND;TZID=America/New_York:20220331T190000
DTSTAMP:20260423T130259
CREATED:20220228T193715Z
LAST-MODIFIED:20220331T152444Z
UID:10890-1648746000-1648753200@smyal.org
SUMMARY:Virtual Drop-In Programs: Poetry Slam
DESCRIPTION:Join us on Discord for virtual programs! Our community spaces are a place where queer and trans youth can meet other young people who hold the same identities\, talk about a wide variety of topics that impact them\, find support\, or just be in community with one another. \nClick here to join on Discord.
URL:https://smyal.org/event/virtual-drop-in-programs-march-2022-2022-03-31/
LOCATION:Discord
CATEGORIES:Virtual Programs,Youth Events
END:VEVENT
END:VCALENDAR