BEGIN:VCALENDAR
VERSION:2.0
PRODID:-//SMYAL - ECPv6.15.20//NONSGML v1.0//EN
CALSCALE:GREGORIAN
METHOD:PUBLISH
X-WR-CALNAME:SMYAL
X-ORIGINAL-URL:https://smyal.org
X-WR-CALDESC:Events for SMYAL
REFRESH-INTERVAL;VALUE=DURATION:PT1H
X-Robots-Tag:noindex
X-PUBLISHED-TTL:PT1H
BEGIN:VTIMEZONE
TZID:America/New_York
BEGIN:DAYLIGHT
TZOFFSETFROM:-0500
TZOFFSETTO:-0400
TZNAME:EDT
DTSTART:20210314T070000
END:DAYLIGHT
BEGIN:STANDARD
TZOFFSETFROM:-0400
TZOFFSETTO:-0500
TZNAME:EST
DTSTART:20211107T060000
END:STANDARD
BEGIN:DAYLIGHT
TZOFFSETFROM:-0500
TZOFFSETTO:-0400
TZNAME:EDT
DTSTART:20220313T070000
END:DAYLIGHT
BEGIN:STANDARD
TZOFFSETFROM:-0400
TZOFFSETTO:-0500
TZNAME:EST
DTSTART:20221106T060000
END:STANDARD
BEGIN:DAYLIGHT
TZOFFSETFROM:-0500
TZOFFSETTO:-0400
TZNAME:EDT
DTSTART:20230312T070000
END:DAYLIGHT
BEGIN:STANDARD
TZOFFSETFROM:-0400
TZOFFSETTO:-0500
TZNAME:EST
DTSTART:20231105T060000
END:STANDARD
END:VTIMEZONE
BEGIN:VEVENT
DTSTART;TZID=America/New_York:20220503T170000
DTEND;TZID=America/New_York:20220503T190000
DTSTAMP:20260423T130028
CREATED:20220505T132541Z
LAST-MODIFIED:20220505T132541Z
UID:11189-1651597200-1651604400@smyal.org
SUMMARY:Virtual Drop-In Programs
DESCRIPTION:Join us on Discord for virtual programs! Our community spaces are a place where queer and trans youth can meet other young people who hold the same identities\, talk about a wide variety of topics that impact them\, find support\, or just be in community with one another. \nClick here to join on Discord.
URL:https://smyal.org/event/virtual-drop-in-programs-may-2022/
LOCATION:Discord
CATEGORIES:Virtual Programs,Youth Events
END:VEVENT
BEGIN:VEVENT
DTSTART;TZID=America/New_York:20220504T163000
DTEND;TZID=America/New_York:20220504T180000
DTSTAMP:20260423T130028
CREATED:20220505T135604Z
LAST-MODIFIED:20220505T135903Z
UID:11225-1651681800-1651687200@smyal.org
SUMMARY:Q Chat Space: Self-Empowerment
DESCRIPTION:Rotating topics in a chat-based discussion room for queer and trans youth ages 13-19. \nJoin at QChatSpace.org
URL:https://smyal.org/event/q-chat-space-may-2022/
LOCATION:Q Chat Space
CATEGORIES:Virtual Programs,Youth Events
END:VEVENT
BEGIN:VEVENT
DTSTART;TZID=America/New_York:20220506T170000
DTEND;TZID=America/New_York:20220506T190000
DTSTAMP:20260423T130028
CREATED:20220505T132541Z
LAST-MODIFIED:20220505T134427Z
UID:11192-1651856400-1651863600@smyal.org
SUMMARY:Virtual Drop-In Programs: Movie Night
DESCRIPTION:Join us on Discord for virtual programs! Our community spaces are a place where queer and trans youth can meet other young people who hold the same identities\, talk about a wide variety of topics that impact them\, find support\, or just be in community with one another. \nClick here to join on Discord.
URL:https://smyal.org/event/virtual-drop-in-programs-may-2022-2022-05-06/
LOCATION:Discord
CATEGORIES:Virtual Programs,Youth Events
END:VEVENT
BEGIN:VEVENT
DTSTART;TZID=America/New_York:20220510T170000
DTEND;TZID=America/New_York:20220510T190000
DTSTAMP:20260423T130028
CREATED:20220505T132541Z
LAST-MODIFIED:20220505T134404Z
UID:11193-1652202000-1652209200@smyal.org
SUMMARY:Virtual Drop-In Programs: Untold Hxstories
DESCRIPTION:Join us on Discord for virtual programs! Our community spaces are a place where queer and trans youth can meet other young people who hold the same identities\, talk about a wide variety of topics that impact them\, find support\, or just be in community with one another. \nClick here to join on Discord.
URL:https://smyal.org/event/virtual-drop-in-programs-may-2022-2022-05-10/
LOCATION:Discord
CATEGORIES:Virtual Programs,Youth Events
END:VEVENT
BEGIN:VEVENT
DTSTART;TZID=America/New_York:20220511T163000
DTEND;TZID=America/New_York:20220511T180000
DTSTAMP:20260423T130028
CREATED:20220505T135604Z
LAST-MODIFIED:20220505T135845Z
UID:11227-1652286600-1652292000@smyal.org
SUMMARY:Q Chat Space: Safe Spaces- Allyship
DESCRIPTION:Rotating topics in a chat-based discussion room for queer and trans youth ages 13-19. \nJoin at QChatSpace.org
URL:https://smyal.org/event/q-chat-space-may-2022-2022-05-11/
LOCATION:Q Chat Space
CATEGORIES:Virtual Programs,Youth Events
END:VEVENT
BEGIN:VEVENT
DTSTART;TZID=America/New_York:20220512T170000
DTEND;TZID=America/New_York:20220512T190000
DTSTAMP:20260423T130028
CREATED:20220505T132541Z
LAST-MODIFIED:20220505T134505Z
UID:11194-1652374800-1652382000@smyal.org
SUMMARY:Virtual Drop-In Programs: Mental Health Awareness for ages 19-24
DESCRIPTION:Join us on Discord for virtual programs! Our community spaces are a place where queer and trans youth can meet other young people who hold the same identities\, talk about a wide variety of topics that impact them\, find support\, or just be in community with one another. \nClick here to join on Discord.
URL:https://smyal.org/event/virtual-drop-in-programs-may-2022-2022-05-12/
LOCATION:Discord
CATEGORIES:Virtual Programs,Youth Events
END:VEVENT
BEGIN:VEVENT
DTSTART;TZID=America/New_York:20220513T170000
DTEND;TZID=America/New_York:20220513T190000
DTSTAMP:20260423T130028
CREATED:20220505T132541Z
LAST-MODIFIED:20220505T134340Z
UID:11195-1652461200-1652468400@smyal.org
SUMMARY:Virtual Drop-In Programs: Poetry Slam
DESCRIPTION:Join us on Discord for virtual programs! Our community spaces are a place where queer and trans youth can meet other young people who hold the same identities\, talk about a wide variety of topics that impact them\, find support\, or just be in community with one another. \nClick here to join on Discord.
URL:https://smyal.org/event/virtual-drop-in-programs-may-2022-2022-05-13/
LOCATION:Discord
CATEGORIES:Virtual Programs,Youth Events
END:VEVENT
BEGIN:VEVENT
DTSTART;TZID=America/New_York:20220514T084500
DTEND;TZID=America/New_York:20220514T171500
DTSTAMP:20260423T130028
CREATED:20220427T175826Z
LAST-MODIFIED:20220427T175826Z
UID:11165-1652517900-1652548500@smyal.org
SUMMARY:Rainbow Families LGBTQ+ Family Conference 2022
DESCRIPTION:Get ready for a wonderful day!  A  full day of inspiration\, important discussions and community-building. \nSMYAL will be presenting our original workshop “Books for Everyone- Diverse Representation for Queer Families” \nIf you are interested in attending\, SMYAL can offer up to 5 free registrations for families. Email Ty Kitchen for the registration code.
URL:https://smyal.org/event/rainbow-families-lgbtq-family-conference-2022/
CATEGORIES:Virtual Programs,Youth Events
END:VEVENT
BEGIN:VEVENT
DTSTART;TZID=America/New_York:20220517T170000
DTEND;TZID=America/New_York:20220517T190000
DTSTAMP:20260423T130028
CREATED:20220505T132541Z
LAST-MODIFIED:20220505T134244Z
UID:11197-1652806800-1652814000@smyal.org
SUMMARY:Virtual Drop-In Programs
DESCRIPTION:Join us on Discord for virtual programs! Our community spaces are a place where queer and trans youth can meet other young people who hold the same identities\, talk about a wide variety of topics that impact them\, find support\, or just be in community with one another. \nClick here to join on Discord.
URL:https://smyal.org/event/virtual-drop-in-programs-may-2022-2022-05-19/
LOCATION:Discord
CATEGORIES:Virtual Programs,Youth Events
END:VEVENT
BEGIN:VEVENT
DTSTART;TZID=America/New_York:20220518T163000
DTEND;TZID=America/New_York:20220518T180000
DTSTAMP:20260423T130028
CREATED:20220505T135604Z
LAST-MODIFIED:20220505T135822Z
UID:11228-1652891400-1652896800@smyal.org
SUMMARY:Q Chat Space: Outfit of the Day!
DESCRIPTION:Rotating topics in a chat-based discussion room for queer and trans youth ages 13-19. \nJoin at QChatSpace.org
URL:https://smyal.org/event/q-chat-space-may-2022-2022-05-18/
LOCATION:Q Chat Space
CATEGORIES:Virtual Programs,Youth Events
END:VEVENT
BEGIN:VEVENT
DTSTART;TZID=America/New_York:20220519T170000
DTEND;TZID=America/New_York:20220519T190000
DTSTAMP:20260423T130028
CREATED:20220505T132541Z
LAST-MODIFIED:20220505T134229Z
UID:11196-1652979600-1652986800@smyal.org
SUMMARY:Virtual Drop-In Programs: Building Blocks to Self-Esteem for ages 13-18
DESCRIPTION:Join us on Discord for virtual programs! Our community spaces are a place where queer and trans youth can meet other young people who hold the same identities\, talk about a wide variety of topics that impact them\, find support\, or just be in community with one another. \nClick here to join on Discord.
URL:https://smyal.org/event/virtual-drop-in-programs-may-2022-2022-05-17/
LOCATION:Discord
CATEGORIES:Virtual Programs,Youth Events
END:VEVENT
BEGIN:VEVENT
DTSTART;TZID=America/New_York:20220520T170000
DTEND;TZID=America/New_York:20220520T190000
DTSTAMP:20260423T130028
CREATED:20220505T132541Z
LAST-MODIFIED:20220505T133235Z
UID:11198-1653066000-1653073200@smyal.org
SUMMARY:Virtual Drop-In Programs: Game Night
DESCRIPTION:Join us on Discord for virtual programs! Our community spaces are a place where queer and trans youth can meet other young people who hold the same identities\, talk about a wide variety of topics that impact them\, find support\, or just be in community with one another. \nClick here to join on Discord.
URL:https://smyal.org/event/virtual-drop-in-programs-may-2022-2022-05-20/
LOCATION:Discord
CATEGORIES:Virtual Programs,Youth Events
END:VEVENT
BEGIN:VEVENT
DTSTART;TZID=America/New_York:20220524T170000
DTEND;TZID=America/New_York:20220524T190000
DTSTAMP:20260423T130028
CREATED:20220505T132541Z
LAST-MODIFIED:20220505T133209Z
UID:11199-1653411600-1653418800@smyal.org
SUMMARY:Virtual Drop-In Programs: Poetry Through the Ages
DESCRIPTION:Join us on Discord for virtual programs! Our community spaces are a place where queer and trans youth can meet other young people who hold the same identities\, talk about a wide variety of topics that impact them\, find support\, or just be in community with one another. \nClick here to join on Discord.
URL:https://smyal.org/event/virtual-drop-in-programs-may-2022-2022-05-24/
LOCATION:Discord
CATEGORIES:Virtual Programs,Youth Events
END:VEVENT
END:VCALENDAR