BEGIN:VCALENDAR
VERSION:2.0
PRODID:-//SMYAL - ECPv5.6.0//NONSGML v1.0//EN
CALSCALE:GREGORIAN
METHOD:PUBLISH
X-WR-CALNAME:SMYAL
X-ORIGINAL-URL:https://smyal.org
X-WR-CALDESC:Events for SMYAL
BEGIN:VTIMEZONE
TZID:UTC
BEGIN:STANDARD
TZOFFSETFROM:+0000
TZOFFSETTO:+0000
TZNAME:UTC
DTSTART:20200101T000000
END:STANDARD
END:VTIMEZONE
BEGIN:VEVENT
DTSTART;TZID=UTC:20200911T133000
DTEND;TZID=UTC:20200911T143000
DTSTAMP:20210527T185129
CREATED:20200903T165512Z
LAST-MODIFIED:20200910T143148Z
UID:3383-1599831000-1599834600@smyal.org
SUMMARY:Mid-Day Chat Space
DESCRIPTION:Open discussion for queer and trans youth ages 13-24 hosted on Discord. \nJoin on the Computer: Visit Discord at https://discord.gg/nGjHXn6 \nDownload the App: Download “Discord” from the App Store \n 
URL:https://smyal.org/youth-event/mid-day-chat-space/
CATEGORIES:Virtual Programs
END:VEVENT
END:VCALENDAR